BEGIN:VCALENDAR
VERSION:2.0
PRODID:-//Casco Bay Artisans - ECPv6.15.20//NONSGML v1.0//EN
CALSCALE:GREGORIAN
METHOD:PUBLISH
X-WR-CALNAME:Casco Bay Artisans
X-ORIGINAL-URL:https://cascobayartisans.com
X-WR-CALDESC:Events for Casco Bay Artisans
REFRESH-INTERVAL;VALUE=DURATION:PT1H
X-Robots-Tag:noindex
X-PUBLISHED-TTL:PT1H
BEGIN:VTIMEZONE
TZID:UTC
BEGIN:STANDARD
TZOFFSETFROM:+0000
TZOFFSETTO:+0000
TZNAME:UTC
DTSTART:20180101T000000
END:STANDARD
END:VTIMEZONE
BEGIN:VEVENT
DTSTART;VALUE=DATE:20210622
DTEND;VALUE=DATE:20210907
DTSTAMP:20260424T050655
CREATED:20210622T194352Z
LAST-MODIFIED:20210622T194407Z
UID:20595-1624320000-1630972799@cascobayartisans.com
SUMMARY:Summer in the City\, Summer by the Sea
DESCRIPTION:As the cool days of spring bow to the warm breezes of summer\, Casco Bay Artists celebrates the landscape of the state that has been inspiring artists for generations. Summer in the City\, Summer by the Sea brings together work by Maine and New England artists honoring the state slogan: The Way Life Should Be. \nFull Exhibition Catalogue
URL:https://cascobayartisans.com/event/summer-in-the-city-summer-by-the-sea/
LOCATION:Casco Bay Artisans\, 68 Commercial St\, Portland\, ME\, 04101\, United States
CATEGORIES:Food Art,Painting,Textile Wall Art
ATTACH;FMTTYPE=image/jpeg:https://cascobayartisans.com/wp-content/uploads/2021/06/summercatalogue.jpg
ORGANIZER;CN="Casco Bay Artisans":MAILTO:jen@cascobayartisans.com
END:VEVENT
BEGIN:VEVENT
DTSTART;TZID=UTC:20191010T170000
DTEND;TZID=UTC:20191010T200000
DTSTAMP:20260424T050655
CREATED:20191008T180314Z
LAST-MODIFIED:20191008T180314Z
UID:19127-1570726800-1570737600@cascobayartisans.com
SUMMARY:Opening Reception: Celebrating the Women of Casco Bay Artisans
DESCRIPTION:
URL:https://cascobayartisans.com/event/opening-reception-celebrating-the-women-of-casco-bay-artisans/
LOCATION:Casco Bay Artisans\, 68 Commercial St\, Portland\, ME\, 04101\, United States
CATEGORIES:Featured,Food Art,Meet the Artist,Painting,Textile Wall Art
ATTACH;FMTTYPE=image/jpeg:https://cascobayartisans.com/wp-content/uploads/2019/09/cbawomenshow.jpg
ORGANIZER;CN="Casco Bay Artisans":MAILTO:jen@cascobayartisans.com
END:VEVENT
BEGIN:VEVENT
DTSTART;VALUE=DATE:20191010
DTEND;VALUE=DATE:20191118
DTSTAMP:20260424T050655
CREATED:20191008T180510Z
LAST-MODIFIED:20191008T180801Z
UID:19129-1570665600-1574035199@cascobayartisans.com
SUMMARY:Celebrating the Women of Casco Bay Artisans Exhibition
DESCRIPTION:
URL:https://cascobayartisans.com/event/celebrating-the-women-of-casco-bay-artisans-exhibition/
LOCATION:Casco Bay Artisans\, 68 Commercial St\, Portland\, ME\, 04101\, United States
CATEGORIES:Featured,Food Art,Painting,Textile Wall Art
ATTACH;FMTTYPE=image/jpeg:https://cascobayartisans.com/wp-content/uploads/2019/09/cbawomenshow.jpg
ORGANIZER;CN="Casco Bay Artisans":MAILTO:jen@cascobayartisans.com
END:VEVENT
BEGIN:VEVENT
DTSTART;VALUE=DATE:20190813
DTEND;VALUE=DATE:20191001
DTSTAMP:20260424T050655
CREATED:20190813T180659Z
LAST-MODIFIED:20190813T200836Z
UID:18973-1565654400-1569887999@cascobayartisans.com
SUMMARY:Kim Radochia: Shimms Exhibition
DESCRIPTION:
URL:https://cascobayartisans.com/event/18973/
LOCATION:Casco Bay Artisans\, 68 Commercial St\, Portland\, ME\, 04101\, United States
CATEGORIES:Featured,Painting,Textile Wall Art
ATTACH;FMTTYPE=image/jpeg:https://cascobayartisans.com/wp-content/uploads/2019/07/Radochia_slots2_300dpi.jpg
ORGANIZER;CN="Casco Bay Artisans":MAILTO:jen@cascobayartisans.com
END:VEVENT
END:VCALENDAR