BEGIN:VCALENDAR
VERSION:2.0
PRODID:-//Casco Bay Artisans - ECPv6.15.20//NONSGML v1.0//EN
CALSCALE:GREGORIAN
METHOD:PUBLISH
X-WR-CALNAME:Casco Bay Artisans
X-ORIGINAL-URL:https://cascobayartisans.com
X-WR-CALDESC:Events for Casco Bay Artisans
REFRESH-INTERVAL;VALUE=DURATION:PT1H
X-Robots-Tag:noindex
X-PUBLISHED-TTL:PT1H
BEGIN:VTIMEZONE
TZID:UTC
BEGIN:STANDARD
TZOFFSETFROM:+0000
TZOFFSETTO:+0000
TZNAME:UTC
DTSTART:20240101T000000
END:STANDARD
END:VTIMEZONE
BEGIN:VEVENT
DTSTART;VALUE=DATE:20250829
DTEND;VALUE=DATE:20250923
DTSTAMP:20260425T161153
CREATED:20250813T153532Z
LAST-MODIFIED:20250818T142025Z
UID:23577-1756425600-1758585599@cascobayartisans.com
SUMMARY:Rebecca Hayes 'From Maine with Love'
DESCRIPTION:Rebecca Hayes ‘From Maine With Love’ \nNew Paintings Inspired by Vintage Scenes \nThrough her stunning photo-realistic paintings\, artist Rebecca Hayes takes us on a journey through Greater Portland history finding forgotten moments and cherished memories. In collaboration with historian Paul Ledman\, author of “Walking Through History: Portland\, Maine on Foot” and  “Portland\, Maine: Connections Across Time\,” Hayes has brought her sharp brush work and eye for color to iconic locations including Harbor Fish Market\, Red’s Dairy Freeze\, and Congress Square. Each painting will be accompanied by text from Ledman for historical context.  \nAdditional paintings of contemporary Greater Portland will be on view in the gallery.  \nRebecca Hayes is an artist based in Portland\, Maine. She grew up in Cape Elizabeth\, Maine\, and attended the University of Massachusetts Amherst. \nOpening Reception: Thursday August 28th\, 5-7pm  \nRebecca Hayes ‘Red’s Dairy 1970’s’ 16″x12″\nPresale Available. Please Contact Us. \nRebecca Hayes ‘Harbor Fish Market 1970’s’ 20″x16″\nPresale Available. Please Contact Us. \nJoin Us for Our Summer 2025 Feature Openings! \n\nAugust 28th\nRebecca Hayes “From Maine With Love”\nfeaturing historical images of greater Portland’s past. \nSeptember 25th\nRuss Cox: New Works
URL:https://cascobayartisans.com/event/rebecca-hayes-from-maine-with-love/
LOCATION:Casco Bay Artisans\, 68 Commercial St\, Portland\, ME\, 04101\, United States
CATEGORIES:Featured,Painting
ATTACH;FMTTYPE=image/jpeg:https://cascobayartisans.com/wp-content/uploads/2025/08/hayespromo4.jpg
ORGANIZER;CN="Casco Bay Artisans":MAILTO:jen@cascobayartisans.com
END:VEVENT
BEGIN:VEVENT
DTSTART;VALUE=DATE:20260312
DTEND;VALUE=DATE:20260407
DTSTAMP:20260425T161153
CREATED:20260217T180003Z
LAST-MODIFIED:20260217T180003Z
UID:23894-1773273600-1775519999@cascobayartisans.com
SUMMARY:Cade Jarvis: Portals
DESCRIPTION:Opening Reception Sunday March 15th\, 11-2pm\nCade Jarvis takes us on a journey into color and soft gradients that pull you deeper into the work. His technical precision allows your eye to flow through paths of color winding you into his world. \nSneak PeekCade Jarvis ‘Shimmering Lights on Acadian Tides’ Acrylic on Panel 48″x36″ \nCade Jarvis ‘Petals Drifting in a Spring Breeze’ Acrylic on Panel 11”x14” \nCade Jarvis ‘Soft Rays of a Spring Sun’ Acrylic on Panel 9”x12”
URL:https://cascobayartisans.com/event/cade-jarvis-portals/
LOCATION:Casco Bay Artisans\, 68 Commercial St\, Portland\, ME\, 04101\, United States
CATEGORIES:Featured,Painting
ATTACH;FMTTYPE=image/jpeg:https://cascobayartisans.com/wp-content/uploads/2026/02/jarvispostcardhorizontal.jpg
ORGANIZER;CN="Casco Bay Artisans":MAILTO:jen@cascobayartisans.com
END:VEVENT
BEGIN:VEVENT
DTSTART;TZID=UTC:20260315T110000
DTEND;TZID=UTC:20260315T140000
DTSTAMP:20260425T161154
CREATED:20260217T180139Z
LAST-MODIFIED:20260217T180139Z
UID:23896-1773572400-1773583200@cascobayartisans.com
SUMMARY:Cade Jarvis: Portals Artist Reception
DESCRIPTION:Opening Reception Sunday March 15th\, 11-2pm\nCade Jarvis takes us on a journey into color and soft gradients that pull you deeper into the work. His technical precision allows your eye to flow through paths of color winding you into his world. \nSneak PeekCade Jarvis ‘Shimmering Lights on Acadian Tides’ Acrylic on Panel 48″x36″ \nCade Jarvis ‘Petals Drifting in a Spring Breeze’ Acrylic on Panel 11”x14” \nCade Jarvis ‘Soft Rays of a Spring Sun’ Acrylic on Panel 9”x12”
URL:https://cascobayartisans.com/event/cade-jarvis-portals-artist-reception/
LOCATION:Casco Bay Artisans\, 68 Commercial St\, Portland\, ME\, 04101\, United States
CATEGORIES:Featured,Meet the Artist,Painting
ATTACH;FMTTYPE=image/jpeg:https://cascobayartisans.com/wp-content/uploads/2026/02/jarvispostcardhorizontal.jpg
ORGANIZER;CN="Casco Bay Artisans":MAILTO:jen@cascobayartisans.com
END:VEVENT
BEGIN:VEVENT
DTSTART;VALUE=DATE:20260412
DTEND;VALUE=DATE:20260511
DTSTAMP:20260425T161154
CREATED:20260407T165658Z
LAST-MODIFIED:20260407T165658Z
UID:23960-1775952000-1778457599@cascobayartisans.com
SUMMARY:Full Bloom Fever
DESCRIPTION:Opening Sunday April 12th!We’re kicking off spring with new bold\, bright\, and joyous floral paintings from Sue Riger. Come find the perfect bouquet that will stay in bloom for years to come. \nSue Riger is a popular painter\, teacher\, and mentor. She dabbled in graphic design and web design with success after earning her BFA from Penn State University\, but she always longed to be painting. Pursuing her goal of becoming a painter was challenging and fun. She plunged into online and live painting classes\, workshops and residencies from professional painters in a variety of styles. As a result of consistent experimentation and practice\, Sue is now an accomplished artist. She joyfully engages in painting as a response to the beauty around us. \nSue’s paintings are characterized by strong light and well-developed layers of beautiful color. Her creative outlets include exclusive original paintings for galleries\, commissioned work\, and art for print licensing. Creating extensive series of works for her agents taught her to hone her painting skills as well as generate quality large-scale high-resolution images for the print industry. She believes an artist’s work should not leave the studio until it is her best. \nEmpowering other artists is Sue’s way of paying it forward. She created several painting courses and launched her own online school. A skilled teacher\, she offers both live and online learning opportunities in representational and abstract techniques. Sue is also a mentor to aspiring artists via Mastrius Official\, a company based in Canada dedicated to helping artists reach their goals. Her practice of sharing helpful content and beautiful art has launched her to become an influencer on Instagram where she delights in interacting with artists\, collectors\, agents\, and galleries. \nFeatured WorksSue Riger ‘Blue Sky’ Acrylic on Canvas 24”x24” $2500 \nSue Riger ‘Poetry of Petals’ Acrylic on Canvas 40”x30” $3050 \nSue Riger ‘Bloom Into Light’ Acrylic on Canvas 36’x48′ $4312 \nSue Riger ‘Petal Party’ Acrylic on Canvas 24”x24” $2500 \nSue Riger ‘Garden Whispers’ Acrylic on Canvas 60″x48″ $6900 \nSue Riger ‘Vivid Living’ Acrylic on Canvas  24”x24” $2500
URL:https://cascobayartisans.com/event/full-bloom-fever/
LOCATION:Casco Bay Artisans\, 68 Commercial St\, Portland\, ME\, 04101\, United States
CATEGORIES:Featured,Painting
ATTACH;FMTTYPE=image/jpeg:https://cascobayartisans.com/wp-content/uploads/2026/04/rigershow1.jpg
ORGANIZER;CN="Casco Bay Artisans":MAILTO:jen@cascobayartisans.com
END:VEVENT
BEGIN:VEVENT
DTSTART;TZID=UTC:20260412T110000
DTEND;TZID=UTC:20260412T140000
DTSTAMP:20260425T161154
CREATED:20260407T163833Z
LAST-MODIFIED:20260407T163833Z
UID:23958-1775991600-1776002400@cascobayartisans.com
SUMMARY:Opening Reception: Full Bloom Fever
DESCRIPTION:Opening Sunday April 12th!We’re kicking off spring with new bold\, bright\, and joyous floral paintings from Sue Riger. Come find the perfect bouquet that will stay in bloom for years to come. \nSue Riger is a popular painter\, teacher\, and mentor. She dabbled in graphic design and web design with success after earning her BFA from Penn State University\, but she always longed to be painting. Pursuing her goal of becoming a painter was challenging and fun. She plunged into online and live painting classes\, workshops and residencies from professional painters in a variety of styles. As a result of consistent experimentation and practice\, Sue is now an accomplished artist. She joyfully engages in painting as a response to the beauty around us. \nSue’s paintings are characterized by strong light and well-developed layers of beautiful color. Her creative outlets include exclusive original paintings for galleries\, commissioned work\, and art for print licensing. Creating extensive series of works for her agents taught her to hone her painting skills as well as generate quality large-scale high-resolution images for the print industry. She believes an artist’s work should not leave the studio until it is her best. \nEmpowering other artists is Sue’s way of paying it forward. She created several painting courses and launched her own online school. A skilled teacher\, she offers both live and online learning opportunities in representational and abstract techniques. Sue is also a mentor to aspiring artists via Mastrius Official\, a company based in Canada dedicated to helping artists reach their goals. Her practice of sharing helpful content and beautiful art has launched her to become an influencer on Instagram where she delights in interacting with artists\, collectors\, agents\, and galleries. \nFeatured WorksSue Riger ‘Blue Sky’ Acrylic on Canvas 24”x24” $2500 \nSue Riger ‘Poetry of Petals’ Acrylic on Canvas 40”x30” $3050 \nSue Riger ‘Bloom Into Light’ Acrylic on Canvas 36’x48′ $4312 \nSue Riger ‘Petal Party’ Acrylic on Canvas 24”x24” $2500 \nSue Riger ‘Garden Whispers’ Acrylic on Canvas 60″x48″ $6900 \nSue Riger ‘Vivid Living’ Acrylic on Canvas  24”x24” $2500
URL:https://cascobayartisans.com/event/opening-reception-full-bloom-fever/
LOCATION:Casco Bay Artisans\, 68 Commercial St\, Portland\, ME\, 04101\, United States
CATEGORIES:Featured,Painting
ATTACH;FMTTYPE=image/jpeg:https://cascobayartisans.com/wp-content/uploads/2026/04/rigershow1.jpg
ORGANIZER;CN="Casco Bay Artisans":MAILTO:jen@cascobayartisans.com
END:VEVENT
END:VCALENDAR