BEGIN:VCALENDAR
VERSION:2.0
PRODID:-//Casco Bay Artisans - ECPv6.15.20//NONSGML v1.0//EN
CALSCALE:GREGORIAN
METHOD:PUBLISH
X-ORIGINAL-URL:https://cascobayartisans.com
X-WR-CALDESC:Events for Casco Bay Artisans
REFRESH-INTERVAL;VALUE=DURATION:PT1H
X-Robots-Tag:noindex
X-PUBLISHED-TTL:PT1H
BEGIN:VTIMEZONE
TZID:UTC
BEGIN:STANDARD
TZOFFSETFROM:+0000
TZOFFSETTO:+0000
TZNAME:UTC
DTSTART:20240101T000000
END:STANDARD
END:VTIMEZONE
BEGIN:VEVENT
DTSTART;TZID=UTC:20250828T170000
DTEND;TZID=UTC:20250828T190000
DTSTAMP:20260425T105541
CREATED:20250813T153404Z
LAST-MODIFIED:20250818T141955Z
UID:23574-1756400400-1756407600@cascobayartisans.com
SUMMARY:Rebecca Hayes 'From Maine with Love' Opening Reception
DESCRIPTION:Rebecca Hayes ‘From Maine With Love’ \nNew Paintings Inspired by Vintage Scenes \nThrough her stunning photo-realistic paintings\, artist Rebecca Hayes takes us on a journey through Greater Portland history finding forgotten moments and cherished memories. In collaboration with historian Paul Ledman\, author of “Walking Through History: Portland\, Maine on Foot” and  “Portland\, Maine: Connections Across Time\,” Hayes has brought her sharp brush work and eye for color to iconic locations including Harbor Fish Market\, Red’s Dairy Freeze\, and Congress Square. Each painting will be accompanied by text from Ledman for historical context.  \nAdditional paintings of contemporary Greater Portland will be on view in the gallery.  \nRebecca Hayes is an artist based in Portland\, Maine. She grew up in Cape Elizabeth\, Maine\, and attended the University of Massachusetts Amherst. \nOpening Reception: Thursday August 28th\, 5-7pm  \nRebecca Hayes ‘Red’s Dairy 1970’s’ 16″x12″\nPresale Available. Please Contact Us. \nRebecca Hayes ‘Harbor Fish Market 1970’s’ 20″x16″\nPresale Available. Please Contact Us. \nJoin Us for Our Summer 2025 Feature Openings! \n\nAugust 28th\nRebecca Hayes “From Maine With Love”\nfeaturing historical images of greater Portland’s past. \nSeptember 25th\nRuss Cox: New Works
URL:https://cascobayartisans.com/event/rebecca-hayes-from-maine-with-love-opening-reception/
LOCATION:Casco Bay Artisans\, 68 Commercial St\, Portland\, ME\, 04101\, United States
CATEGORIES:Featured,Meet the Artist,Painting
ATTACH;FMTTYPE=image/jpeg:https://cascobayartisans.com/wp-content/uploads/2025/08/hayespromo4.jpg
ORGANIZER;CN="Casco Bay Artisans":MAILTO:jen@cascobayartisans.com
END:VEVENT
BEGIN:VEVENT
DTSTART;TZID=UTC:20260208T120000
DTEND;TZID=UTC:20260208T140000
DTSTAMP:20260425T105541
CREATED:20260126T171431Z
LAST-MODIFIED:20260126T171431Z
UID:23837-1770552000-1770559200@cascobayartisans.com
SUMMARY:Grace Cooper New Oil Paintings on Marble
DESCRIPTION:Grace Cooper: Oil Paintings on MarbleFirst opening of 2026! Join Casco Bay Artisans on SUNDAY February 8th from 12-2pm for an opening featuring new oil paintings on marble from artist Grace Cooper. During the event\, we will have a special tasting of champagnes from Victoreiux. ⁠\n⁠\nAbout Grace Cooper:⁠\nCreativity and a love for art and nature have been passed along in Grace’s family for generations. Her desire to be an artist took hold early on\, and with the encouragement of her parents\, the journey began while taking classes at the Silvermine Guild Arts Center in New Canaan\, Connecticut. Grace then continued her studies at the School of Visual Arts in New York City where she earned a Bachelor of Fine Arts degree. Before dedicating herself to painting full time\, she was a textile designer for printed fabric in both the apparel and home furnishing industries. Grace has been exhibiting her work in galleries and shows since her days at Silvermine\, and her paintings are in private and corporate collections throughout the United States.⁠\n⁠ \nSneak peek:Grace Cooper ‘Lingering Clouds’ Oil and Cold Wax on Carra Marble 6″x6″ $690 \nGrace Cooper ‘Autumn Sunset’ Oil and Cold Wax on Carra Marble 6″x12″ $1400 \n\n\nThe Victorieux portfolio.\n\n\n\n\nOur portfolio includes only sustainable\, organic\, or biodynamic grower champagne from vignerons independents. We source our wines through exclusive relationships with recoltant manipulants in the Vallee de la Marne\, Montagne de Reims\, Cotes des Bars (Aube)\, and Cote de Sezzane. We emphasize our focus on female producers and wines from the rustic southern reaches of the region.
URL:https://cascobayartisans.com/event/grace-cooper-new-oil-paintings-on-marble/
LOCATION:Casco Bay Artisans\, 68 Commercial St\, Portland\, ME\, 04101\, United States
CATEGORIES:Featured,Food Art,Meet the Artist
ATTACH;FMTTYPE=image/jpeg:https://cascobayartisans.com/wp-content/uploads/2026/01/cooperfebshow-copy3.jpg
ORGANIZER;CN="Casco Bay Artisans":MAILTO:jen@cascobayartisans.com
END:VEVENT
BEGIN:VEVENT
DTSTART;TZID=UTC:20260315T110000
DTEND;TZID=UTC:20260315T140000
DTSTAMP:20260425T105541
CREATED:20260217T180139Z
LAST-MODIFIED:20260217T180139Z
UID:23896-1773572400-1773583200@cascobayartisans.com
SUMMARY:Cade Jarvis: Portals Artist Reception
DESCRIPTION:Opening Reception Sunday March 15th\, 11-2pm\nCade Jarvis takes us on a journey into color and soft gradients that pull you deeper into the work. His technical precision allows your eye to flow through paths of color winding you into his world. \nSneak PeekCade Jarvis ‘Shimmering Lights on Acadian Tides’ Acrylic on Panel 48″x36″ \nCade Jarvis ‘Petals Drifting in a Spring Breeze’ Acrylic on Panel 11”x14” \nCade Jarvis ‘Soft Rays of a Spring Sun’ Acrylic on Panel 9”x12”
URL:https://cascobayartisans.com/event/cade-jarvis-portals-artist-reception/
LOCATION:Casco Bay Artisans\, 68 Commercial St\, Portland\, ME\, 04101\, United States
CATEGORIES:Featured,Meet the Artist,Painting
ATTACH;FMTTYPE=image/jpeg:https://cascobayartisans.com/wp-content/uploads/2026/02/jarvispostcardhorizontal.jpg
ORGANIZER;CN="Casco Bay Artisans":MAILTO:jen@cascobayartisans.com
END:VEVENT
END:VCALENDAR