BEGIN:VCALENDAR
VERSION:2.0
PRODID:-//Casco Bay Artisans - ECPv6.15.20//NONSGML v1.0//EN
CALSCALE:GREGORIAN
METHOD:PUBLISH
X-WR-CALNAME:Casco Bay Artisans
X-ORIGINAL-URL:https://cascobayartisans.com
X-WR-CALDESC:Events for Casco Bay Artisans
REFRESH-INTERVAL;VALUE=DURATION:PT1H
X-Robots-Tag:noindex
X-PUBLISHED-TTL:PT1H
BEGIN:VTIMEZONE
TZID:UTC
BEGIN:STANDARD
TZOFFSETFROM:+0000
TZOFFSETTO:+0000
TZNAME:UTC
DTSTART:20230101T000000
END:STANDARD
END:VTIMEZONE
BEGIN:VEVENT
DTSTART;TZID=UTC:20240510T170000
DTEND;TZID=UTC:20240510T200000
DTSTAMP:20260425T105232
CREATED:20240424T230143Z
LAST-MODIFIED:20240424T230143Z
UID:22698-1715360400-1715371200@cascobayartisans.com
SUMMARY:Russ Cox: Immersion Opening Reception
DESCRIPTION:Maine artist Russ Cox presents new works that pull you in close\, and then pull you even deeper. \nCox’s oil paintings evoke the sensory feeling associated with place\, nature and experience. Works evolve from a process of applying layer upon layer with multiple glazes to create movement\, translucency and depth. These works are deeply meditative\, becoming more complex as they unfold. \nJoin us as we celebrate Russ Cox’s new works and step deeper into his visionary world. \nA full catalog of works available. We are happy to arrange private showings and studio tours. All are welcome. \nRSVP
URL:https://cascobayartisans.com/event/russ-cox-immersion-opening-reception/
LOCATION:Casco Bay Artisans\, 68 Commercial St\, Portland\, ME\, 04101\, United States
CATEGORIES:Featured,Meet the Artist,Painting
ATTACH;FMTTYPE=image/jpeg:https://cascobayartisans.com/wp-content/uploads/2024/04/immersionpromo-copy.jpg
ORGANIZER;CN="Casco Bay Artisans":MAILTO:jen@cascobayartisans.com
END:VEVENT
END:VCALENDAR