BEGIN:VCALENDAR
VERSION:2.0
PRODID:-//Casco Bay Artisans - ECPv6.15.20//NONSGML v1.0//EN
CALSCALE:GREGORIAN
METHOD:PUBLISH
X-ORIGINAL-URL:https://cascobayartisans.com
X-WR-CALDESC:Events for Casco Bay Artisans
REFRESH-INTERVAL;VALUE=DURATION:PT1H
X-Robots-Tag:noindex
X-PUBLISHED-TTL:PT1H
BEGIN:VTIMEZONE
TZID:UTC
BEGIN:STANDARD
TZOFFSETFROM:+0000
TZOFFSETTO:+0000
TZNAME:UTC
DTSTART:20220101T000000
END:STANDARD
END:VTIMEZONE
BEGIN:VEVENT
DTSTART;TZID=UTC:20230721T170000
DTEND;TZID=UTC:20230721T200000
DTSTAMP:20260426T011915
CREATED:20230705T183906Z
LAST-MODIFIED:20230705T183906Z
UID:22226-1689958800-1689969600@cascobayartisans.com
SUMMARY:CBA Summer Soiree
DESCRIPTION:It’s a Celebration!\nJoin us for a joyous evening at the CBA Summer Soiree! Get ready to celebrate art and the summer season in style. This in-person event will take place on Fri Jul 21 2023 at 68 Commercial Street #building a\, Portland\, ME 04101. \nOur Summer Soiree promises a night filled with great art\, wine\, and people. Whether you’re looking to meet our artists\, find that perfect piece of art\, or simply have a fantastic time\, this event is perfect for you. \nMark your calendars for the CBA Summer Soiree and get ready to toast to the art and artists who make CBA ‘the most beautiful gallery in Maine’. \nWe can’t wait to see you there! \nRSVP
URL:https://cascobayartisans.com/event/cba-summer-soiree/
LOCATION:Casco Bay Artisans\, 68 Commercial St\, Portland\, ME\, 04101\, United States
CATEGORIES:Featured,Meet the Artist,Painting
ATTACH;FMTTYPE=image/jpeg:https://cascobayartisans.com/wp-content/uploads/2023/07/cbasummersoireeinvite-copy.jpg
ORGANIZER;CN="Casco Bay Artisans":MAILTO:jen@cascobayartisans.com
END:VEVENT
END:VCALENDAR