BEGIN:VCALENDAR
VERSION:2.0
PRODID:-//Casco Bay Artisans - ECPv6.15.20//NONSGML v1.0//EN
CALSCALE:GREGORIAN
METHOD:PUBLISH
X-ORIGINAL-URL:https://cascobayartisans.com
X-WR-CALDESC:Events for Casco Bay Artisans
REFRESH-INTERVAL;VALUE=DURATION:PT1H
X-Robots-Tag:noindex
X-PUBLISHED-TTL:PT1H
BEGIN:VTIMEZONE
TZID:UTC
BEGIN:STANDARD
TZOFFSETFROM:+0000
TZOFFSETTO:+0000
TZNAME:UTC
DTSTART:20220101T000000
END:STANDARD
END:VTIMEZONE
BEGIN:VEVENT
DTSTART;TZID=UTC:20230519T170000
DTEND;TZID=UTC:20230519T200000
DTSTAMP:20260426T042049
CREATED:20230516T140245Z
LAST-MODIFIED:20230518T213236Z
UID:22128-1684515600-1684526400@cascobayartisans.com
SUMMARY:Russ Cox: Origins Opening Reception
DESCRIPTION:Explorations of gesture\, form\, and color from a bold abstractionist. \nCox’s oil paintings evoke the sensory feeling associated with place\, nature and experience. Works evolve from a process of applying layer upon layer with multiple glazes to create movement\, translucency and depth. These works are deeply meditative\, becoming more complex as they unfold. ⁠ ⁠ Artist’s Statement:⁠ ⁠ I endeavor to create paintings that evoke a sensory feeling associated with place\, nature and experience. Paintings evolve from a process of applying layer upon layer with multiple glazes to create movement\, translucency and depth. A painting becomes completed for me if it reaches a point of evoking an experiential feeling\, with multiple viewers connecting with their own individualized interpretation.⁠ \nFull Exhibition CatalogueRuss Cox ‘Day Off’ Oil on Canvas 40”x60” $6\,800 \nRuss Cox ‘Marseille’ Oil on Canvas 48”x72” $9\,500 \nRuss Cox ‘Party On The Wharf’ Oil on Canvas Scroll 48”x80” $6\,200 \nRuss Cox ‘Genèse’ Oil on Canvas 48”x72” $8\,500 \nRuss Cox ‘Sunspot’ Oil on Canvas 48”x60” $5\,400 \nRuss Cox ‘Dance’ Oil on Canvas 48”x60” $5\,200 \nRuss Cox ‘Uncovered Oil on Canvas 48”x36” $4\,200 \nRuss Cox ‘Clouds’ Oil on Canvas 40”x60” $5\,200 \nRuss Cox ‘Moment’ Oil on Canvas 48”x72” $6\,800 \nRuss Cox ‘Finale’ Oil on Canvas 48”x60” $5\,200
URL:https://cascobayartisans.com/event/russ-cox-origins-opening-reception/
LOCATION:Casco Bay Artisans\, 68 Commercial St\, Portland\, ME\, 04101\, United States
CATEGORIES:Featured,Meet the Artist,Painting
ATTACH;FMTTYPE=image/jpeg:https://cascobayartisans.com/wp-content/uploads/2023/05/coxoriginsinvitefront.jpg
ORGANIZER;CN="Casco Bay Artisans":MAILTO:jen@cascobayartisans.com
END:VEVENT
END:VCALENDAR