BEGIN:VCALENDAR
VERSION:2.0
PRODID:-//Casco Bay Artisans - ECPv6.15.20//NONSGML v1.0//EN
CALSCALE:GREGORIAN
METHOD:PUBLISH
X-ORIGINAL-URL:https://cascobayartisans.com
X-WR-CALDESC:Events for Casco Bay Artisans
REFRESH-INTERVAL;VALUE=DURATION:PT1H
X-Robots-Tag:noindex
X-PUBLISHED-TTL:PT1H
BEGIN:VTIMEZONE
TZID:UTC
BEGIN:STANDARD
TZOFFSETFROM:+0000
TZOFFSETTO:+0000
TZNAME:UTC
DTSTART:20160101T000000
END:STANDARD
END:VTIMEZONE
BEGIN:VEVENT
DTSTART;VALUE=DATE:20191010
DTEND;VALUE=DATE:20191118
DTSTAMP:20260424T142011
CREATED:20191008T180510Z
LAST-MODIFIED:20191008T180801Z
UID:19129-1570665600-1574035199@cascobayartisans.com
SUMMARY:Celebrating the Women of Casco Bay Artisans Exhibition
DESCRIPTION:
URL:https://cascobayartisans.com/event/celebrating-the-women-of-casco-bay-artisans-exhibition/
LOCATION:Casco Bay Artisans\, 68 Commercial St\, Portland\, ME\, 04101\, United States
CATEGORIES:Featured,Food Art,Painting,Textile Wall Art
ATTACH;FMTTYPE=image/jpeg:https://cascobayartisans.com/wp-content/uploads/2019/09/cbawomenshow.jpg
ORGANIZER;CN="Casco Bay Artisans":MAILTO:jen@cascobayartisans.com
END:VEVENT
BEGIN:VEVENT
DTSTART;VALUE=DATE:20190813
DTEND;VALUE=DATE:20191001
DTSTAMP:20260424T142011
CREATED:20190813T180659Z
LAST-MODIFIED:20190813T200836Z
UID:18973-1565654400-1569887999@cascobayartisans.com
SUMMARY:Kim Radochia: Shimms Exhibition
DESCRIPTION:
URL:https://cascobayartisans.com/event/18973/
LOCATION:Casco Bay Artisans\, 68 Commercial St\, Portland\, ME\, 04101\, United States
CATEGORIES:Featured,Painting,Textile Wall Art
ATTACH;FMTTYPE=image/jpeg:https://cascobayartisans.com/wp-content/uploads/2019/07/Radochia_slots2_300dpi.jpg
ORGANIZER;CN="Casco Bay Artisans":MAILTO:jen@cascobayartisans.com
END:VEVENT
BEGIN:VEVENT
DTSTART;TZID=UTC:20181206T170000
DTEND;TZID=UTC:20181206T200000
DTSTAMP:20260424T142011
CREATED:20181128T191350Z
LAST-MODIFIED:20181128T191350Z
UID:18699-1544115600-1544126400@cascobayartisans.com
SUMMARY:Art is Food | Food is Art II with Matt James of Standard Baking Co.
DESCRIPTION:Art is Food | Food is Art II\nFeaturing Matt James of Standard Baking Co\nOpening Reception Thursday\, December 6th\n5-8pm\nMatt James\, Casco Bay Artisans current Artist-in-Residence\, is the owner of Portland’s famous Standard Baking Company and an oil painter in the style of the old masters. Utilizing an observational technique\, working from life or a photograph\, James takes time to ‘tune out’ and truly look at objects. Receiving his B.A. from Mass Art\, his influences include: George Nick\, Edwin Dickinson\, Walter Murch\, Mary Cassatt\, & John Singer Sargent. On Thursday\, December 6th beginning 5PM-8PM\, Casco Bay Artisans (68 Commercial Street\, The Maine Wharf) will host the opening reception for his exhibition featuring new paintings based on still lives of his baked goods in conjunction with the fine breads and pastries themselves. It will be the most delectable art event of the season!  \nCasco Bay Artisans’ Art is Food & Food is Art Artist-in-Residence program offers an artist in the food industry 24 hour access to the gallery to focus on their fine art work\, culminating in a show opening the First Thursday in December and during the December First Friday Art Walk. Artists are encouraged to show their culinary work side by side with their art. This program is an effort to cross pollinate and showcase creatives working in two of Portland’s most visible industries: art and food.  \nMatt James \nUntitled Still Life \nOil on Canvas \n2018 \nMatt James \nUntitled Still Life \nOil on Canvas \n2018
URL:https://cascobayartisans.com/event/art-is-food-food-is-art-ii-with-matt-james-of-standard-baking-co/
LOCATION:Casco Bay Artisans\, 68 Commercial St\, Portland\, ME\, 04101\, United States
CATEGORIES:Featured,Food Art,Meet the Artist,Painting
ATTACH;FMTTYPE=image/jpeg:https://cascobayartisans.com/wp-content/uploads/2018/11/mjfront.jpg
ORGANIZER;CN="Casco Bay Artisans":MAILTO:jen@cascobayartisans.com
END:VEVENT
BEGIN:VEVENT
DTSTART;TZID=UTC:20181018T170000
DTEND;TZID=UTC:20181018T200000
DTSTAMP:20260424T142011
CREATED:20181012T222643Z
LAST-MODIFIED:20181012T222643Z
UID:18594-1539882000-1539892800@cascobayartisans.com
SUMMARY:Magical Thinking In The Woods
DESCRIPTION:
URL:https://cascobayartisans.com/event/magical-thinking-in-the-woods/
LOCATION:ME
CATEGORIES:Featured
ATTACH;FMTTYPE=image/jpeg:https://cascobayartisans.com/wp-content/uploads/2018/10/Unknown-9.jpeg
END:VEVENT
BEGIN:VEVENT
DTSTART;TZID=UTC:20180406T170000
DTEND;TZID=UTC:20180406T200000
DTSTAMP:20260424T142011
CREATED:20180318T164655Z
LAST-MODIFIED:20180318T165000Z
UID:18424-1523034000-1523044800@cascobayartisans.com
SUMMARY:3rd Annual Regional High School Art Show
DESCRIPTION:
URL:https://cascobayartisans.com/event/3rd-annual-high-school-regional-art-show/
LOCATION:ME
CATEGORIES:Featured,Meet the Artist,Painting
ATTACH;FMTTYPE=image/jpeg:https://cascobayartisans.com/wp-content/uploads/2018/03/preview-3.jpeg
END:VEVENT
BEGIN:VEVENT
DTSTART;TZID=UTC:20180301T170000
DTEND;TZID=UTC:20180301T200000
DTSTAMP:20260424T142011
CREATED:20180128T204844Z
LAST-MODIFIED:20180128T204919Z
UID:18391-1519923600-1519934400@cascobayartisans.com
SUMMARY:"Conversations In Paint" Shared Canvas Art Show - Diane Dahlke and Bonnie Spiegel\, Opening Reception - March 1\, 2018
DESCRIPTION:
URL:https://cascobayartisans.com/event/conversations-paint-shared-canvas-art-show-diane-dahlke-bonnie-spiegel-opening-reception-march-1-2018/
LOCATION:ME
CATEGORIES:Featured,Painting
END:VEVENT
BEGIN:VEVENT
DTSTART;TZID=UTC:20170901T170000
DTEND;TZID=UTC:20170901T200000
DTSTAMP:20260424T142011
CREATED:20170828T214147Z
LAST-MODIFIED:20170828T214822Z
UID:18269-1504285200-1504296000@cascobayartisans.com
SUMMARY:EVENT: Come see the latest collection from Lee Johnson
DESCRIPTION:Casco Bay Artisans’ gallery-goers can’t get enough of Lee Johnson’s unique\, elegant\, gestural figurative oils…so\, here we go…opening Friday\, Sept.\, 1st beginning 5PM-8PM…all welcome!
URL:https://cascobayartisans.com/event/event-come-see-latest-collection-lee-johnson/
LOCATION:Casco Bay Artisans\, 68 Commercial St\, Portland\, ME\, 04101\, United States
CATEGORIES:Featured,Painting
ATTACH;FMTTYPE=image/jpeg:https://cascobayartisans.com/wp-content/uploads/2017/08/Lee-Johnson-1.jpg
ORGANIZER;CN="Jen Swarts":MAILTO:JenSwarts@Aol.com
END:VEVENT
END:VCALENDAR